BEGIN:VCALENDAR
VERSION:2.0
PRODID:-// - ECPv4.3.1.1//NONSGML v1.0//EN
CALSCALE:GREGORIAN
METHOD:PUBLISH
X-WR-CALNAME:
X-ORIGINAL-URL:http://www.xn--pfarrelinzchristknig-kbc.at
X-WR-CALDESC:Events for 
BEGIN:VEVENT
DTSTART;TZID=Europe/Berlin:20230305T080000
DTEND;TZID=Europe/Berlin:20230305T200000
DTSTAMP:20260425T033310
CREATED:20230214T165146Z
LAST-MODIFIED:20230214T165146Z
UID:7450-1678003200-1678046400@www.xn--pfarrelinzchristknig-kbc.at
SUMMARY:Aktion Familienfasttag und Suppensonntag
DESCRIPTION:Suppe to go nach allen Gottesdiensten\n\nFasttagssuppen-Essen im Pfarrheim zw. 10 und 12 Uhr
URL:http://www.xn--pfarrelinzchristknig-kbc.at/event/aktion-familienfasttag-und-suppensonntag/
END:VEVENT
END:VCALENDAR