BEGIN:VCALENDAR
VERSION:2.0
PRODID:-// - ECPv4.3.1.1//NONSGML v1.0//EN
CALSCALE:GREGORIAN
METHOD:PUBLISH
X-WR-CALNAME:
X-ORIGINAL-URL:http://www.xn--pfarrelinzchristknig-kbc.at
X-WR-CALDESC:Events for 
BEGIN:VEVENT
DTSTART;TZID=Europe/Berlin:20230217T173000
DTEND;TZID=Europe/Berlin:20230217T183000
DTSTAMP:20260425T105401
CREATED:20230121T163107Z
LAST-MODIFIED:20230121T163107Z
UID:7349-1676655000-1676658600@www.xn--pfarrelinzchristknig-kbc.at
SUMMARY:Chor Kunterbunt
DESCRIPTION:Herzliche Einladung zum gemeinsamen Singen im Chor Kunterbunt! (in der Unterkirche\, Eingang Peuerbachstraße)
URL:http://www.xn--pfarrelinzchristknig-kbc.at/event/chor-kunterbunt-3/
END:VEVENT
END:VCALENDAR