BEGIN:VCALENDAR
VERSION:2.0
PRODID:-// - ECPv4.3.1.1//NONSGML v1.0//EN
CALSCALE:GREGORIAN
METHOD:PUBLISH
X-WR-CALNAME:
X-ORIGINAL-URL:http://www.xn--pfarrelinzchristknig-kbc.at
X-WR-CALDESC:Events for 
BEGIN:VEVENT
DTSTART;TZID=Europe/Berlin:20230419T190000
DTEND;TZID=Europe/Berlin:20230419T210000
DTSTAMP:20260425T032848
CREATED:20230214T164141Z
LAST-MODIFIED:20230214T164141Z
UID:7441-1681930800-1681938000@www.xn--pfarrelinzchristknig-kbc.at
SUMMARY:Frauenzeit
DESCRIPTION:\n"Die Kraft ist weiblich"\n\nDiskussionsabend mit Margit Hauft
URL:http://www.xn--pfarrelinzchristknig-kbc.at/event/frauenzeit/
END:VEVENT
END:VCALENDAR