BEGIN:VCALENDAR
VERSION:2.0
PRODID:-// - ECPv4.3.1.1//NONSGML v1.0//EN
CALSCALE:GREGORIAN
METHOD:PUBLISH
X-WR-CALNAME:
X-ORIGINAL-URL:http://www.xn--pfarrelinzchristknig-kbc.at
X-WR-CALDESC:Events for 
BEGIN:VEVENT
DTSTART;TZID=Europe/Berlin:20240329T190000
DTEND;TZID=Europe/Berlin:20240329T200000
DTSTAMP:20260424T223012
CREATED:20231017T143115Z
LAST-MODIFIED:20240219T152404Z
UID:8179-1711738800-1711742400@www.xn--pfarrelinzchristknig-kbc.at
SUMMARY:Karfreitagsliturgie: Bach Johannes-Passion
DESCRIPTION:
URL:http://www.xn--pfarrelinzchristknig-kbc.at/event/karfreitagsliturgie-bach-johannes-passion/
END:VEVENT
END:VCALENDAR