BEGIN:VCALENDAR
VERSION:2.0
PRODID:-// - ECPv4.3.1.1//NONSGML v1.0//EN
CALSCALE:GREGORIAN
METHOD:PUBLISH
X-WR-CALNAME:
X-ORIGINAL-URL:http://www.xn--pfarrelinzchristknig-kbc.at
X-WR-CALDESC:Events for 
BEGIN:VEVENT
DTSTART;TZID=Europe/Berlin:20231117T193000
DTEND;TZID=Europe/Berlin:20231117T210000
DTSTAMP:20260424T173025
CREATED:20231107T065344Z
LAST-MODIFIED:20231107T065344Z
UID:8242-1700249400-1700254800@www.xn--pfarrelinzchristknig-kbc.at
SUMMARY:Konzert - Musikkapelle Pöstlingberg-Lichtenberg
DESCRIPTION:[pdf-embedder url="http://www.xn--pfarrelinzchristknig-kbc.at/wp-content/uploads/2023/11/Musikkapelle-Lichtenberg-Pöstlingberg-Konzert-2023.pdf"]
URL:http://www.xn--pfarrelinzchristknig-kbc.at/event/konzert-musikkapelle-poestlingberg-lichtenberg/
END:VEVENT
END:VCALENDAR