BEGIN:VCALENDAR
VERSION:2.0
PRODID:-// - ECPv4.3.1.1//NONSGML v1.0//EN
CALSCALE:GREGORIAN
METHOD:PUBLISH
X-WR-CALNAME:
X-ORIGINAL-URL:http://www.xn--pfarrelinzchristknig-kbc.at
X-WR-CALDESC:Events for 
BEGIN:VEVENT
DTSTART;TZID=Europe/Berlin:20230416T160000
DTEND;TZID=Europe/Berlin:20230416T180000
DTSTAMP:20260425T032431
CREATED:20220812T131546Z
LAST-MODIFIED:20230309T141956Z
UID:6848-1681660800-1681668000@www.xn--pfarrelinzchristknig-kbc.at
SUMMARY:Konzert Sinfonia Christkönig
DESCRIPTION:[pdf-embedder url="http://www.xn--pfarrelinzchristknig-kbc.at/wp-content/uploads/2022/08/Konzertplakat-April-2023.pdf" title="Konzertplakat April 2023"]
URL:http://www.xn--pfarrelinzchristknig-kbc.at/event/konzert-sinfonia-christkoenig-4/
END:VEVENT
END:VCALENDAR