BEGIN:VCALENDAR
VERSION:2.0
PRODID:-// - ECPv4.3.1.1//NONSGML v1.0//EN
CALSCALE:GREGORIAN
METHOD:PUBLISH
X-WR-CALNAME:
X-ORIGINAL-URL:http://www.xn--pfarrelinzchristknig-kbc.at
X-WR-CALDESC:Events for 
BEGIN:VEVENT
DTSTART;TZID=Europe/Berlin:20230523T190000
DTEND;TZID=Europe/Berlin:20230523T200000
DTSTAMP:20260425T001447
CREATED:20230214T165605Z
LAST-MODIFIED:20230214T165701Z
UID:7459-1684868400-1684872000@www.xn--pfarrelinzchristknig-kbc.at
SUMMARY:Maiandacht der kfb Christkönig
DESCRIPTION:Maiandacht der kfb Christkönig mit anschließender Agape
URL:http://www.xn--pfarrelinzchristknig-kbc.at/event/maiandacht-der-kfb-christkoenig/
END:VEVENT
END:VCALENDAR