BEGIN:VCALENDAR
VERSION:2.0
PRODID:-// - ECPv4.3.1.1//NONSGML v1.0//EN
CALSCALE:GREGORIAN
METHOD:PUBLISH
X-WR-CALNAME:
X-ORIGINAL-URL:http://www.xn--pfarrelinzchristknig-kbc.at
X-WR-CALDESC:Events for 
BEGIN:VEVENT
DTSTART;TZID=Europe/Berlin:20231112T170000
DTEND;TZID=Europe/Berlin:20231112T180000
DTSTAMP:20260424T172820
CREATED:20231023T102754Z
LAST-MODIFIED:20231023T102754Z
UID:8201-1699808400-1699812000@www.xn--pfarrelinzchristknig-kbc.at
SUMMARY:Martinsfest
DESCRIPTION:[pdf-embedder url="http://www.xn--pfarrelinzchristknig-kbc.at/wp-content/uploads/2023/10/Einladung-Martinsfest-2023.pdf" title="Einladung Martinsfest 2023"]
URL:http://www.xn--pfarrelinzchristknig-kbc.at/event/martinsfest/
END:VEVENT
END:VCALENDAR