BEGIN:VCALENDAR
VERSION:2.0
PRODID:-// - ECPv4.3.1.1//NONSGML v1.0//EN
CALSCALE:GREGORIAN
METHOD:PUBLISH
X-WR-CALNAME:
X-ORIGINAL-URL:http://www.xn--pfarrelinzchristknig-kbc.at
X-WR-CALDESC:Events for 
BEGIN:VEVENT
DTSTART;TZID=Europe/Berlin:20240331T093000
DTEND;TZID=Europe/Berlin:20240331T103000
DTSTAMP:20260424T204704
CREATED:20231017T143206Z
LAST-MODIFIED:20240219T152324Z
UID:8181-1711877400-1711881000@www.xn--pfarrelinzchristknig-kbc.at
SUMMARY:Osterhochamt Mozart Trinitatismesse
DESCRIPTION:
URL:http://www.xn--pfarrelinzchristknig-kbc.at/event/osterhochamt-mozart-trinitatismesse/
END:VEVENT
END:VCALENDAR