BEGIN:VCALENDAR
VERSION:2.0
PRODID:-// - ECPv4.3.1.1//NONSGML v1.0//EN
CALSCALE:GREGORIAN
METHOD:PUBLISH
X-WR-CALNAME:
X-ORIGINAL-URL:http://www.xn--pfarrelinzchristknig-kbc.at
X-WR-CALDESC:Events for 
BEGIN:VEVENT
DTSTART;TZID=Europe/Berlin:20230203T193000
DTEND;TZID=Europe/Berlin:20230204T000000
DTSTAMP:20260425T104843
CREATED:20220907T060143Z
LAST-MODIFIED:20220908T144040Z
UID:6908-1675452600-1675468800@www.xn--pfarrelinzchristknig-kbc.at
SUMMARY:Pfarrball 2023 mit "Nightfever" am Freitag\, 03. Februar
DESCRIPTION:[pdf-embedder url="http://www.xn--pfarrelinzchristknig-kbc.at/wp-content/uploads/2022/09/PfBa-CK-2023_PLA.pdf" title="PfBa-CK 2023_PLA"]
URL:http://www.xn--pfarrelinzchristknig-kbc.at/event/pfarrball-2023-mit-nightfever-am-freitag-03-februar/
END:VEVENT
END:VCALENDAR