BEGIN:VCALENDAR
VERSION:2.0
PRODID:-// - ECPv4.3.1.1//NONSGML v1.0//EN
CALSCALE:GREGORIAN
METHOD:PUBLISH
X-WR-CALNAME:
X-ORIGINAL-URL:http://www.xn--pfarrelinzchristknig-kbc.at
X-WR-CALDESC:Events for 
BEGIN:VEVENT
DTSTART;TZID=Europe/Berlin:20230515T143000
DTEND;TZID=Europe/Berlin:20230515T160000
DTSTAMP:20260425T001253
CREATED:20230121T163927Z
LAST-MODIFIED:20230121T163927Z
UID:7373-1684161000-1684166400@www.xn--pfarrelinzchristknig-kbc.at
SUMMARY:Pfarrcafe
DESCRIPTION:
URL:http://www.xn--pfarrelinzchristknig-kbc.at/event/pfarrcafe-5/
END:VEVENT
END:VCALENDAR