BEGIN:VCALENDAR
VERSION:2.0
PRODID:-// - ECPv4.3.1.1//NONSGML v1.0//EN
CALSCALE:GREGORIAN
METHOD:PUBLISH
X-WR-CALNAME:
X-ORIGINAL-URL:http://www.xn--pfarrelinzchristknig-kbc.at
X-WR-CALDESC:Events for 
BEGIN:VEVENT
DTSTART;TZID=Europe/Berlin:20230619T143000
DTEND;TZID=Europe/Berlin:20230619T160000
DTSTAMP:20260424T222411
CREATED:20230121T164004Z
LAST-MODIFIED:20230121T164004Z
UID:7375-1687185000-1687190400@www.xn--pfarrelinzchristknig-kbc.at
SUMMARY:Pfarrcafe
DESCRIPTION:
URL:http://www.xn--pfarrelinzchristknig-kbc.at/event/pfarrcafe-6/
END:VEVENT
END:VCALENDAR