BEGIN:VCALENDAR
VERSION:2.0
PRODID:-// - ECPv4.3.1.1//NONSGML v1.0//EN
CALSCALE:GREGORIAN
METHOD:PUBLISH
X-WR-CALNAME:
X-ORIGINAL-URL:http://www.xn--pfarrelinzchristknig-kbc.at
X-WR-CALDESC:Events for 
BEGIN:VEVENT
DTSTART;TZID=Europe/Berlin:20230630T190000
DTEND;TZID=Europe/Berlin:20230630T200000
DTSTAMP:20260424T205331
CREATED:20230621T145432Z
LAST-MODIFIED:20230621T145432Z
UID:7758-1688151600-1688155200@www.xn--pfarrelinzchristknig-kbc.at
SUMMARY:Segensfeier für Trauernde
DESCRIPTION:[pdf-embedder url="http://www.xn--pfarrelinzchristknig-kbc.at/wp-content/uploads/2022/09/Trauerbegleitung-CK-2022-2023.pdf" title="Trauerbegleitung CK 2022-2023"]
URL:http://www.xn--pfarrelinzchristknig-kbc.at/event/segensfeier-fuer-trauernde-3/
END:VEVENT
END:VCALENDAR