BEGIN:VCALENDAR
VERSION:2.0
PRODID:-// - ECPv4.3.1.1//NONSGML v1.0//EN
CALSCALE:GREGORIAN
METHOD:PUBLISH
X-WR-CALNAME:
X-ORIGINAL-URL:http://www.xn--pfarrelinzchristknig-kbc.at
X-WR-CALDESC:Events for 
BEGIN:VEVENT
DTSTART;TZID=Europe/Berlin:20231009T190000
DTEND;TZID=Europe/Berlin:20231009T210000
DTSTAMP:20260424T204818
CREATED:20230707T130546Z
LAST-MODIFIED:20230915T155630Z
UID:7804-1696878000-1696885200@www.xn--pfarrelinzchristknig-kbc.at
SUMMARY:Vortrag und Diskussion "Essen wir die Welt kaputt?  Globale Nahrungsmittelproduktion und Folgen für Mensch\, Umwelt und Klima"
DESCRIPTION:[pdf-embedder url="http://www.xn--pfarrelinzchristknig-kbc.at/wp-content/uploads/2023/07/Essen-wir-die-Welt-kaputt-V2.pdf" title="Essen wir die Welt kaputt-V2"]
URL:http://www.xn--pfarrelinzchristknig-kbc.at/event/vortrag-und-diskussion-essen-wir-die-welt-kaputt-globale-nahrungsmittelproduktion-und-folgen-fuer-mensch-umwelt-und-klima/
END:VEVENT
END:VCALENDAR